BEGIN:VCALENDAR
VERSION:2.0
PRODID:-//Location Hörstein - ECPv6.5.1.6//NONSGML v1.0//EN
CALSCALE:GREGORIAN
METHOD:PUBLISH
X-WR-CALNAME:Location Hörstein
X-ORIGINAL-URL:https://location-hoerstein.de
X-WR-CALDESC:Veranstaltungen für Location Hörstein
REFRESH-INTERVAL;VALUE=DURATION:PT1H
X-Robots-Tag:noindex
X-PUBLISHED-TTL:PT1H
BEGIN:VTIMEZONE
TZID:UTC
BEGIN:STANDARD
TZOFFSETFROM:+0000
TZOFFSETTO:+0000
TZNAME:UTC
DTSTART:20260101T000000
END:STANDARD
END:VTIMEZONE
BEGIN:VEVENT
DTSTART;VALUE=DATE:20260425
DTEND;VALUE=DATE:20260426
DTSTAMP:20260420T231901
CREATED:20260216T094124Z
LAST-MODIFIED:20260216T094124Z
UID:1899-1777075200-1777161599@location-hoerstein.de
SUMMARY:Belegt
DESCRIPTION:
URL:https://location-hoerstein.de/buchung/belegt-22
END:VEVENT
END:VCALENDAR