BEGIN:VCALENDAR
VERSION:2.0
PRODID:-//Location Hörstein - ECPv6.5.1.6//NONSGML v1.0//EN
CALSCALE:GREGORIAN
METHOD:PUBLISH
X-ORIGINAL-URL:https://location-hoerstein.de
X-WR-CALDESC:Veranstaltungen für Location Hörstein
REFRESH-INTERVAL;VALUE=DURATION:PT1H
X-Robots-Tag:noindex
X-PUBLISHED-TTL:PT1H
BEGIN:VTIMEZONE
TZID:UTC
BEGIN:STANDARD
TZOFFSETFROM:+0000
TZOFFSETTO:+0000
TZNAME:UTC
DTSTART:20260101T000000
END:STANDARD
END:VTIMEZONE
BEGIN:VEVENT
DTSTART;VALUE=DATE:20260514
DTEND;VALUE=DATE:20260516
DTSTAMP:20260422T101150
CREATED:20240526T092905Z
LAST-MODIFIED:20260119T174509Z
UID:1702-1778716800-1778889599@location-hoerstein.de
SUMMARY:Belegt
DESCRIPTION:
URL:https://location-hoerstein.de/buchung/belegt210625
END:VEVENT
END:VCALENDAR